BEGIN:VCALENDAR
VERSION:2.0
PRODID:-//San Diego Cooperative Charter School - ECPv6.15.20//NONSGML v1.0//EN
CALSCALE:GREGORIAN
METHOD:PUBLISH
X-ORIGINAL-URL:https://lv.sdccs.org
X-WR-CALDESC:Events for San Diego Cooperative Charter School
REFRESH-INTERVAL;VALUE=DURATION:PT1H
X-Robots-Tag:noindex
X-PUBLISHED-TTL:PT1H
BEGIN:VTIMEZONE
TZID:America/Los_Angeles
BEGIN:DAYLIGHT
TZOFFSETFROM:-0800
TZOFFSETTO:-0700
TZNAME:PDT
DTSTART:20250309T100000
END:DAYLIGHT
BEGIN:STANDARD
TZOFFSETFROM:-0700
TZOFFSETTO:-0800
TZNAME:PST
DTSTART:20251102T090000
END:STANDARD
BEGIN:DAYLIGHT
TZOFFSETFROM:-0800
TZOFFSETTO:-0700
TZNAME:PDT
DTSTART:20260308T100000
END:DAYLIGHT
BEGIN:STANDARD
TZOFFSETFROM:-0700
TZOFFSETTO:-0800
TZNAME:PST
DTSTART:20261101T090000
END:STANDARD
BEGIN:DAYLIGHT
TZOFFSETFROM:-0800
TZOFFSETTO:-0700
TZNAME:PDT
DTSTART:20270314T100000
END:DAYLIGHT
BEGIN:STANDARD
TZOFFSETFROM:-0700
TZOFFSETTO:-0800
TZNAME:PST
DTSTART:20271107T090000
END:STANDARD
END:VTIMEZONE
BEGIN:VEVENT
DTSTART;TZID=America/Los_Angeles:20260626T000000
DTEND;TZID=America/Los_Angeles:20260626T235959
DTSTAMP:20260421T123724
CREATED:20250703T182358Z
LAST-MODIFIED:20250703T182358Z
UID:9242-1782432000-1782518399@lv.sdccs.org
SUMMARY:ESY and Summer Camp
DESCRIPTION:
URL:https://lv.sdccs.org/event/esy-and-summer-camp-25/
CATEGORIES:School
END:VEVENT
BEGIN:VEVENT
DTSTART;TZID=America/Los_Angeles:20260629T000000
DTEND;TZID=America/Los_Angeles:20260629T235959
DTSTAMP:20260421T123724
CREATED:20250703T182400Z
LAST-MODIFIED:20250703T182400Z
UID:9244-1782691200-1782777599@lv.sdccs.org
SUMMARY:Summer Camp (NO ESY)
DESCRIPTION:
URL:https://lv.sdccs.org/event/summer-camp-no-esy/
CATEGORIES:School
END:VEVENT
BEGIN:VEVENT
DTSTART;TZID=America/Los_Angeles:20260630T000000
DTEND;TZID=America/Los_Angeles:20260630T235959
DTSTAMP:20260421T123724
CREATED:20250703T182400Z
LAST-MODIFIED:20250703T182400Z
UID:9245-1782777600-1782863999@lv.sdccs.org
SUMMARY:Summer Camp (NO ESY)
DESCRIPTION:
URL:https://lv.sdccs.org/event/summer-camp-no-esy-2/
CATEGORIES:School
END:VEVENT
BEGIN:VEVENT
DTSTART;TZID=America/Los_Angeles:20260701T000000
DTEND;TZID=America/Los_Angeles:20260701T235959
DTSTAMP:20260421T123724
CREATED:20250703T182558Z
LAST-MODIFIED:20250703T182558Z
UID:9246-1782864000-1782950399@lv.sdccs.org
SUMMARY:Summer Camp (NO ESY)
DESCRIPTION:
URL:https://lv.sdccs.org/event/summer-camp-no-esy-3/
CATEGORIES:School
END:VEVENT
BEGIN:VEVENT
DTSTART;TZID=America/Los_Angeles:20260702T000000
DTEND;TZID=America/Los_Angeles:20260702T235959
DTSTAMP:20260421T123724
CREATED:20250703T182559Z
LAST-MODIFIED:20250703T182559Z
UID:9247-1782950400-1783036799@lv.sdccs.org
SUMMARY:Summer Camp (NO ESY)
DESCRIPTION:
URL:https://lv.sdccs.org/event/summer-camp-no-esy-4/
CATEGORIES:School
END:VEVENT
BEGIN:VEVENT
DTSTART;TZID=America/Los_Angeles:20260703T000000
DTEND;TZID=America/Los_Angeles:20260703T235959
DTSTAMP:20260421T123724
CREATED:20250703T182559Z
LAST-MODIFIED:20250703T182559Z
UID:9248-1783036800-1783123199@lv.sdccs.org
SUMMARY:No camp
DESCRIPTION:
URL:https://lv.sdccs.org/event/no-camp/
CATEGORIES:School
END:VEVENT
END:VCALENDAR