BEGIN:VCALENDAR
VERSION:2.0
PRODID:-//San Diego Cooperative Charter School - ECPv6.15.20//NONSGML v1.0//EN
CALSCALE:GREGORIAN
METHOD:PUBLISH
X-ORIGINAL-URL:https://lv.sdccs.org
X-WR-CALDESC:Events for San Diego Cooperative Charter School
REFRESH-INTERVAL;VALUE=DURATION:PT1H
X-Robots-Tag:noindex
X-PUBLISHED-TTL:PT1H
BEGIN:VTIMEZONE
TZID:America/Los_Angeles
BEGIN:DAYLIGHT
TZOFFSETFROM:-0800
TZOFFSETTO:-0700
TZNAME:PDT
DTSTART:20250309T100000
END:DAYLIGHT
BEGIN:STANDARD
TZOFFSETFROM:-0700
TZOFFSETTO:-0800
TZNAME:PST
DTSTART:20251102T090000
END:STANDARD
BEGIN:DAYLIGHT
TZOFFSETFROM:-0800
TZOFFSETTO:-0700
TZNAME:PDT
DTSTART:20260308T100000
END:DAYLIGHT
BEGIN:STANDARD
TZOFFSETFROM:-0700
TZOFFSETTO:-0800
TZNAME:PST
DTSTART:20261101T090000
END:STANDARD
BEGIN:DAYLIGHT
TZOFFSETFROM:-0800
TZOFFSETTO:-0700
TZNAME:PDT
DTSTART:20270314T100000
END:DAYLIGHT
BEGIN:STANDARD
TZOFFSETFROM:-0700
TZOFFSETTO:-0800
TZNAME:PST
DTSTART:20271107T090000
END:STANDARD
END:VTIMEZONE
BEGIN:VEVENT
DTSTART;TZID=America/Los_Angeles:20260616T000000
DTEND;TZID=America/Los_Angeles:20260616T235959
DTSTAMP:20260421T110810
CREATED:20250703T181959Z
LAST-MODIFIED:20250703T181959Z
UID:9233-1781568000-1781654399@lv.sdccs.org
SUMMARY:ESY and Summer Camp
DESCRIPTION:
URL:https://lv.sdccs.org/event/esy-and-summer-camp-16/
CATEGORIES:School
END:VEVENT
BEGIN:VEVENT
DTSTART;TZID=America/Los_Angeles:20260617T000000
DTEND;TZID=America/Los_Angeles:20260617T235959
DTSTAMP:20260421T110810
CREATED:20250703T181959Z
LAST-MODIFIED:20250703T181959Z
UID:9234-1781654400-1781740799@lv.sdccs.org
SUMMARY:ESY and Summer Camp
DESCRIPTION:
URL:https://lv.sdccs.org/event/esy-and-summer-camp-17/
CATEGORIES:School
END:VEVENT
BEGIN:VEVENT
DTSTART;TZID=America/Los_Angeles:20260618T000000
DTEND;TZID=America/Los_Angeles:20260618T235959
DTSTAMP:20260421T110810
CREATED:20250703T182000Z
LAST-MODIFIED:20250703T182000Z
UID:9235-1781740800-1781827199@lv.sdccs.org
SUMMARY:ESY and Summer Camp
DESCRIPTION:
URL:https://lv.sdccs.org/event/esy-and-summer-camp-18/
CATEGORIES:School
END:VEVENT
BEGIN:VEVENT
DTSTART;TZID=America/Los_Angeles:20260619T000000
DTEND;TZID=America/Los_Angeles:20260619T235959
DTSTAMP:20260421T110810
CREATED:20250703T182359Z
LAST-MODIFIED:20250703T182359Z
UID:9243-1781827200-1781913599@lv.sdccs.org
SUMMARY:Juneteenth - No Camps
DESCRIPTION:
URL:https://lv.sdccs.org/event/juneteenth-no-camps/
CATEGORIES:School
END:VEVENT
BEGIN:VEVENT
DTSTART;TZID=America/Los_Angeles:20260620T000000
DTEND;TZID=America/Los_Angeles:20260620T235959
DTSTAMP:20260421T110810
CREATED:20250703T182158Z
LAST-MODIFIED:20250703T182158Z
UID:9236-1781913600-1781999999@lv.sdccs.org
SUMMARY:ESY and Summer Camp
DESCRIPTION:
URL:https://lv.sdccs.org/event/esy-and-summer-camp-19/
CATEGORIES:School
END:VEVENT
BEGIN:VEVENT
DTSTART;TZID=America/Los_Angeles:20260621T000000
DTEND;TZID=America/Los_Angeles:20260621T235959
DTSTAMP:20260421T110810
CREATED:20250703T182159Z
LAST-MODIFIED:20250703T182159Z
UID:9237-1782000000-1782086399@lv.sdccs.org
SUMMARY:ESY and Summer Camp
DESCRIPTION:
URL:https://lv.sdccs.org/event/esy-and-summer-camp-20/
CATEGORIES:School
END:VEVENT
BEGIN:VEVENT
DTSTART;TZID=America/Los_Angeles:20260622T000000
DTEND;TZID=America/Los_Angeles:20260622T235959
DTSTAMP:20260421T110810
CREATED:20250703T182159Z
LAST-MODIFIED:20250703T182159Z
UID:9238-1782086400-1782172799@lv.sdccs.org
SUMMARY:ESY and Summer Camp
DESCRIPTION:
URL:https://lv.sdccs.org/event/esy-and-summer-camp-21/
CATEGORIES:School
END:VEVENT
BEGIN:VEVENT
DTSTART;TZID=America/Los_Angeles:20260623T000000
DTEND;TZID=America/Los_Angeles:20260623T235959
DTSTAMP:20260421T110810
CREATED:20250703T182200Z
LAST-MODIFIED:20250703T182200Z
UID:9239-1782172800-1782259199@lv.sdccs.org
SUMMARY:ESY and Summer Camp
DESCRIPTION:
URL:https://lv.sdccs.org/event/esy-and-summer-camp-22/
CATEGORIES:School
END:VEVENT
BEGIN:VEVENT
DTSTART;TZID=America/Los_Angeles:20260624T000000
DTEND;TZID=America/Los_Angeles:20260624T235959
DTSTAMP:20260421T110810
CREATED:20250703T182201Z
LAST-MODIFIED:20250703T182201Z
UID:9240-1782259200-1782345599@lv.sdccs.org
SUMMARY:ESY and Summer Camp
DESCRIPTION:
URL:https://lv.sdccs.org/event/esy-and-summer-camp-23/
CATEGORIES:School
END:VEVENT
BEGIN:VEVENT
DTSTART;TZID=America/Los_Angeles:20260625T000000
DTEND;TZID=America/Los_Angeles:20260625T235959
DTSTAMP:20260421T110810
CREATED:20250703T182358Z
LAST-MODIFIED:20250703T182358Z
UID:9241-1782345600-1782431999@lv.sdccs.org
SUMMARY:ESY and Summer Camp
DESCRIPTION:
URL:https://lv.sdccs.org/event/esy-and-summer-camp-24/
CATEGORIES:School
END:VEVENT
BEGIN:VEVENT
DTSTART;TZID=America/Los_Angeles:20260626T000000
DTEND;TZID=America/Los_Angeles:20260626T235959
DTSTAMP:20260421T110810
CREATED:20250703T182358Z
LAST-MODIFIED:20250703T182358Z
UID:9242-1782432000-1782518399@lv.sdccs.org
SUMMARY:ESY and Summer Camp
DESCRIPTION:
URL:https://lv.sdccs.org/event/esy-and-summer-camp-25/
CATEGORIES:School
END:VEVENT
BEGIN:VEVENT
DTSTART;TZID=America/Los_Angeles:20260629T000000
DTEND;TZID=America/Los_Angeles:20260629T235959
DTSTAMP:20260421T110810
CREATED:20250703T182400Z
LAST-MODIFIED:20250703T182400Z
UID:9244-1782691200-1782777599@lv.sdccs.org
SUMMARY:Summer Camp (NO ESY)
DESCRIPTION:
URL:https://lv.sdccs.org/event/summer-camp-no-esy/
CATEGORIES:School
END:VEVENT
BEGIN:VEVENT
DTSTART;TZID=America/Los_Angeles:20260630T000000
DTEND;TZID=America/Los_Angeles:20260630T235959
DTSTAMP:20260421T110810
CREATED:20250703T182400Z
LAST-MODIFIED:20250703T182400Z
UID:9245-1782777600-1782863999@lv.sdccs.org
SUMMARY:Summer Camp (NO ESY)
DESCRIPTION:
URL:https://lv.sdccs.org/event/summer-camp-no-esy-2/
CATEGORIES:School
END:VEVENT
BEGIN:VEVENT
DTSTART;TZID=America/Los_Angeles:20260701T000000
DTEND;TZID=America/Los_Angeles:20260701T235959
DTSTAMP:20260421T110810
CREATED:20250703T182558Z
LAST-MODIFIED:20250703T182558Z
UID:9246-1782864000-1782950399@lv.sdccs.org
SUMMARY:Summer Camp (NO ESY)
DESCRIPTION:
URL:https://lv.sdccs.org/event/summer-camp-no-esy-3/
CATEGORIES:School
END:VEVENT
BEGIN:VEVENT
DTSTART;TZID=America/Los_Angeles:20260702T000000
DTEND;TZID=America/Los_Angeles:20260702T235959
DTSTAMP:20260421T110810
CREATED:20250703T182559Z
LAST-MODIFIED:20250703T182559Z
UID:9247-1782950400-1783036799@lv.sdccs.org
SUMMARY:Summer Camp (NO ESY)
DESCRIPTION:
URL:https://lv.sdccs.org/event/summer-camp-no-esy-4/
CATEGORIES:School
END:VEVENT
BEGIN:VEVENT
DTSTART;TZID=America/Los_Angeles:20260703T000000
DTEND;TZID=America/Los_Angeles:20260703T235959
DTSTAMP:20260421T110810
CREATED:20250703T182559Z
LAST-MODIFIED:20250703T182559Z
UID:9248-1783036800-1783123199@lv.sdccs.org
SUMMARY:No camp
DESCRIPTION:
URL:https://lv.sdccs.org/event/no-camp/
CATEGORIES:School
END:VEVENT
END:VCALENDAR