BEGIN:VCALENDAR
VERSION:2.0
PRODID:-//San Diego Cooperative Charter School - ECPv6.15.20//NONSGML v1.0//EN
CALSCALE:GREGORIAN
METHOD:PUBLISH
X-ORIGINAL-URL:https://lv.sdccs.org
X-WR-CALDESC:Events for San Diego Cooperative Charter School
REFRESH-INTERVAL;VALUE=DURATION:PT1H
X-Robots-Tag:noindex
X-PUBLISHED-TTL:PT1H
BEGIN:VTIMEZONE
TZID:America/Los_Angeles
BEGIN:DAYLIGHT
TZOFFSETFROM:-0800
TZOFFSETTO:-0700
TZNAME:PDT
DTSTART:20240310T100000
END:DAYLIGHT
BEGIN:STANDARD
TZOFFSETFROM:-0700
TZOFFSETTO:-0800
TZNAME:PST
DTSTART:20241103T090000
END:STANDARD
BEGIN:DAYLIGHT
TZOFFSETFROM:-0800
TZOFFSETTO:-0700
TZNAME:PDT
DTSTART:20250309T100000
END:DAYLIGHT
BEGIN:STANDARD
TZOFFSETFROM:-0700
TZOFFSETTO:-0800
TZNAME:PST
DTSTART:20251102T090000
END:STANDARD
BEGIN:DAYLIGHT
TZOFFSETFROM:-0800
TZOFFSETTO:-0700
TZNAME:PDT
DTSTART:20260308T100000
END:DAYLIGHT
BEGIN:STANDARD
TZOFFSETFROM:-0700
TZOFFSETTO:-0800
TZNAME:PST
DTSTART:20261101T090000
END:STANDARD
END:VTIMEZONE
BEGIN:VEVENT
DTSTART;TZID=America/Los_Angeles:20250612T080000
DTEND;TZID=America/Los_Angeles:20250612T170000
DTSTAMP:20260419T044435
CREATED:20250605T224118Z
LAST-MODIFIED:20250605T224118Z
UID:9093-1749715200-1749747600@lv.sdccs.org
SUMMARY:Test Event 2
DESCRIPTION:Test Event 2
URL:https://lv.sdccs.org/event/test-event-2/
END:VEVENT
BEGIN:VEVENT
DTSTART;TZID=America/Los_Angeles:20250613T080000
DTEND;TZID=America/Los_Angeles:20250613T170000
DTSTAMP:20260419T044435
CREATED:20250605T224146Z
LAST-MODIFIED:20250605T224146Z
UID:9094-1749801600-1749834000@lv.sdccs.org
SUMMARY:Test Event 3
DESCRIPTION:Test Event 3
URL:https://lv.sdccs.org/event/test-event-3/
END:VEVENT
BEGIN:VEVENT
DTSTART;TZID=America/Los_Angeles:20250724T100000
DTEND;TZID=America/Los_Angeles:20250724T120000
DTSTAMP:20260419T044435
CREATED:20250703T180249Z
LAST-MODIFIED:20250703T180249Z
UID:9161-1753351200-1753358400@lv.sdccs.org
SUMMARY:Orientation
DESCRIPTION:
URL:https://lv.sdccs.org/event/orientation/
CATEGORIES:School
END:VEVENT
BEGIN:VEVENT
DTSTART;TZID=America/Los_Angeles:20250724T170000
DTEND;TZID=America/Los_Angeles:20250724T190000
DTSTAMP:20260419T044435
CREATED:20250703T180249Z
LAST-MODIFIED:20250715T192027Z
UID:9162-1753376400-1753383600@lv.sdccs.org
SUMMARY:Orientation
DESCRIPTION:
URL:https://lv.sdccs.org/event/orientation-2/
CATEGORIES:School
END:VEVENT
BEGIN:VEVENT
DTSTART;TZID=America/Los_Angeles:20250806T100000
DTEND;TZID=America/Los_Angeles:20250806T120000
DTSTAMP:20260419T044435
CREATED:20250729T034921Z
LAST-MODIFIED:20250729T034935Z
UID:9306-1754474400-1754481600@lv.sdccs.org
SUMMARY:Middle School Orientation (Students Only)
DESCRIPTION:Orientation is for Middle School Students ONLY \nDate: August 6th\nTime: 10 am to 12:00 pm\nLocation: Lunch Arbor \nParents will be expected to drop off students between 9:30 am – 10:00 am and pick up students at 12:00 pm when orientation finishes.
URL:https://lv.sdccs.org/event/middle-school-orientation-2/
END:VEVENT
BEGIN:VEVENT
DTSTART;TZID=America/Los_Angeles:20250811T000000
DTEND;TZID=America/Los_Angeles:20250811T235959
DTSTAMP:20260419T044435
CREATED:20250703T180250Z
LAST-MODIFIED:20250703T180250Z
UID:9163-1754870400-1754956799@lv.sdccs.org
SUMMARY:First Day of School
DESCRIPTION:
URL:https://lv.sdccs.org/event/first-day-of-school-3/
CATEGORIES:School
END:VEVENT
BEGIN:VEVENT
DTSTART;TZID=America/Los_Angeles:20250812T173000
DTEND;TZID=America/Los_Angeles:20250812T193000
DTSTAMP:20260419T044435
CREATED:20250703T182600Z
LAST-MODIFIED:20250703T182600Z
UID:9249-1755019800-1755027000@lv.sdccs.org
SUMMARY:Board Meeting
DESCRIPTION:
URL:https://lv.sdccs.org/event/board-meeting-23/
CATEGORIES:Board Meeting
END:VEVENT
BEGIN:VEVENT
DTSTART;TZID=America/Los_Angeles:20250829T083000
DTEND;TZID=America/Los_Angeles:20250829T090000
DTSTAMP:20260419T044435
CREATED:20250827T203300Z
LAST-MODIFIED:20250827T203300Z
UID:9384-1756456200-1756458000@lv.sdccs.org
SUMMARY:Board of Directors Special Meeting
DESCRIPTION:AGENDA
URL:https://lv.sdccs.org/event/board-of-directors-special-meeting/
END:VEVENT
BEGIN:VEVENT
DTSTART;TZID=America/Los_Angeles:20250901T000000
DTEND;TZID=America/Los_Angeles:20250901T235959
DTSTAMP:20260419T044435
CREATED:20250703T180251Z
LAST-MODIFIED:20250703T190755Z
UID:9164-1756684800-1756771199@lv.sdccs.org
SUMMARY:Labor Day - No School
DESCRIPTION:
URL:https://lv.sdccs.org/event/labor-day-3/
CATEGORIES:School
END:VEVENT
BEGIN:VEVENT
DTSTART;TZID=America/Los_Angeles:20250909T173000
DTEND;TZID=America/Los_Angeles:20250909T193000
DTSTAMP:20260419T044435
CREATED:20250703T182601Z
LAST-MODIFIED:20250703T182601Z
UID:9250-1757439000-1757446200@lv.sdccs.org
SUMMARY:Board Meeting
DESCRIPTION:
URL:https://lv.sdccs.org/event/board-meeting-24/
CATEGORIES:Board Meeting
END:VEVENT
BEGIN:VEVENT
DTSTART;TZID=America/Los_Angeles:20250918T000000
DTEND;TZID=America/Los_Angeles:20250918T235959
DTSTAMP:20260419T044435
CREATED:20250703T180251Z
LAST-MODIFIED:20250703T180251Z
UID:9165-1758153600-1758239999@lv.sdccs.org
SUMMARY:School Event
DESCRIPTION:
URL:https://lv.sdccs.org/event/school-event/
CATEGORIES:School
END:VEVENT
BEGIN:VEVENT
DTSTART;TZID=America/Los_Angeles:20250923T000000
DTEND;TZID=America/Los_Angeles:20250923T235959
DTSTAMP:20260419T044435
CREATED:20250703T180253Z
LAST-MODIFIED:20250703T180253Z
UID:9166-1758585600-1758671999@lv.sdccs.org
SUMMARY:Goal Setting Conferences
DESCRIPTION:
URL:https://lv.sdccs.org/event/goal-setting-conferences-11/
CATEGORIES:School
END:VEVENT
BEGIN:VEVENT
DTSTART;TZID=America/Los_Angeles:20250924T000000
DTEND;TZID=America/Los_Angeles:20250924T235959
DTSTAMP:20260419T044435
CREATED:20250703T180254Z
LAST-MODIFIED:20250703T180254Z
UID:9167-1758672000-1758758399@lv.sdccs.org
SUMMARY:Goal Setting Conferences
DESCRIPTION:
URL:https://lv.sdccs.org/event/goal-setting-conferences-12/
CATEGORIES:School
END:VEVENT
BEGIN:VEVENT
DTSTART;TZID=America/Los_Angeles:20250925T000000
DTEND;TZID=America/Los_Angeles:20250925T235959
DTSTAMP:20260419T044435
CREATED:20250703T180255Z
LAST-MODIFIED:20250703T180255Z
UID:9168-1758758400-1758844799@lv.sdccs.org
SUMMARY:Goal Setting Conferences
DESCRIPTION:
URL:https://lv.sdccs.org/event/goal-setting-conferences-13/
CATEGORIES:School
END:VEVENT
BEGIN:VEVENT
DTSTART;TZID=America/Los_Angeles:20250926T000000
DTEND;TZID=America/Los_Angeles:20250926T235959
DTSTAMP:20260419T044435
CREATED:20250703T180255Z
LAST-MODIFIED:20250703T180255Z
UID:9169-1758844800-1758931199@lv.sdccs.org
SUMMARY:Goal Setting Conferences
DESCRIPTION:
URL:https://lv.sdccs.org/event/goal-setting-conferences-14/
CATEGORIES:School
END:VEVENT
BEGIN:VEVENT
DTSTART;TZID=America/Los_Angeles:20251002T000000
DTEND;TZID=America/Los_Angeles:20251002T235959
DTSTAMP:20260419T044435
CREATED:20250703T180256Z
LAST-MODIFIED:20250703T180256Z
UID:9170-1759363200-1759449599@lv.sdccs.org
SUMMARY:Jogathon
DESCRIPTION:
URL:https://lv.sdccs.org/event/jogathon-3/
CATEGORIES:School
END:VEVENT
BEGIN:VEVENT
DTSTART;TZID=America/Los_Angeles:20251010T000000
DTEND;TZID=America/Los_Angeles:20251010T235959
DTSTAMP:20260419T044435
CREATED:20250703T180324Z
LAST-MODIFIED:20250703T180324Z
UID:9171-1760054400-1760140799@lv.sdccs.org
SUMMARY:Teacher Work Day
DESCRIPTION:
URL:https://lv.sdccs.org/event/teacher-work-day/
CATEGORIES:School
END:VEVENT
BEGIN:VEVENT
DTSTART;TZID=America/Los_Angeles:20251013T000000
DTEND;TZID=America/Los_Angeles:20251013T235959
DTSTAMP:20260419T044435
CREATED:20250703T180324Z
LAST-MODIFIED:20250818T032119Z
UID:9172-1760313600-1760399999@lv.sdccs.org
SUMMARY:Indigenous People's Day - No School
DESCRIPTION:
URL:https://lv.sdccs.org/event/indigenous-peoples-day/
CATEGORIES:School
END:VEVENT
BEGIN:VEVENT
DTSTART;TZID=America/Los_Angeles:20251014T173000
DTEND;TZID=America/Los_Angeles:20251014T193000
DTSTAMP:20260419T044435
CREATED:20250703T182758Z
LAST-MODIFIED:20250703T182758Z
UID:9251-1760463000-1760470200@lv.sdccs.org
SUMMARY:Board Meeting
DESCRIPTION:
URL:https://lv.sdccs.org/event/board-meeting-25/
CATEGORIES:Board Meeting
END:VEVENT
BEGIN:VEVENT
DTSTART;TZID=America/Los_Angeles:20251031T000000
DTEND;TZID=America/Los_Angeles:20251031T235959
DTSTAMP:20260419T044435
CREATED:20250703T180325Z
LAST-MODIFIED:20250703T180325Z
UID:9173-1761868800-1761955199@lv.sdccs.org
SUMMARY:Halloween
DESCRIPTION:
URL:https://lv.sdccs.org/event/halloween-5/
CATEGORIES:School
END:VEVENT
BEGIN:VEVENT
DTSTART;TZID=America/Los_Angeles:20251031T000000
DTEND;TZID=America/Los_Angeles:20251031T235959
DTSTAMP:20260419T044435
CREATED:20250825T024805Z
LAST-MODIFIED:20250825T024805Z
UID:9381-1761868800-1761955199@lv.sdccs.org
SUMMARY:Minimum Day
DESCRIPTION:
URL:https://lv.sdccs.org/event/minimum-day-76/
END:VEVENT
BEGIN:VEVENT
DTSTART;TZID=America/Los_Angeles:20251110T000000
DTEND;TZID=America/Los_Angeles:20251110T235959
DTSTAMP:20260419T044435
CREATED:20250703T180325Z
LAST-MODIFIED:20250703T180325Z
UID:9174-1762732800-1762819199@lv.sdccs.org
SUMMARY:No School
DESCRIPTION:
URL:https://lv.sdccs.org/event/no-school-9/
CATEGORIES:School
END:VEVENT
BEGIN:VEVENT
DTSTART;TZID=America/Los_Angeles:20251111T000000
DTEND;TZID=America/Los_Angeles:20251111T235959
DTSTAMP:20260419T044435
CREATED:20250703T180326Z
LAST-MODIFIED:20250703T180326Z
UID:9175-1762819200-1762905599@lv.sdccs.org
SUMMARY:Veteran's Day
DESCRIPTION:
URL:https://lv.sdccs.org/event/veterans-day-4/
CATEGORIES:School
END:VEVENT
BEGIN:VEVENT
DTSTART;TZID=America/Los_Angeles:20251111T173000
DTEND;TZID=America/Los_Angeles:20251111T193000
DTSTAMP:20260419T044435
CREATED:20250703T182759Z
LAST-MODIFIED:20251105T222309Z
UID:9252-1762882200-1762889400@lv.sdccs.org
SUMMARY:Board Meeting - cancelled
DESCRIPTION:
URL:https://lv.sdccs.org/event/board-meeting-26/
CATEGORIES:Board Meeting
END:VEVENT
BEGIN:VEVENT
DTSTART;TZID=America/Los_Angeles:20251120T000000
DTEND;TZID=America/Los_Angeles:20251120T235959
DTSTAMP:20260419T044435
CREATED:20250703T180354Z
LAST-MODIFIED:20250703T180354Z
UID:9176-1763596800-1763683199@lv.sdccs.org
SUMMARY:Project Night
DESCRIPTION:
URL:https://lv.sdccs.org/event/project-night-10/
CATEGORIES:School
END:VEVENT
BEGIN:VEVENT
DTSTART;TZID=America/Los_Angeles:20251121T000000
DTEND;TZID=America/Los_Angeles:20251121T235959
DTSTAMP:20260419T044435
CREATED:20250703T180354Z
LAST-MODIFIED:20250703T180354Z
UID:9177-1763683200-1763769599@lv.sdccs.org
SUMMARY:Teacher Work Day
DESCRIPTION:
URL:https://lv.sdccs.org/event/teacher-work-day-2/
CATEGORIES:School
END:VEVENT
BEGIN:VEVENT
DTSTART;TZID=America/Los_Angeles:20251124T000000
DTEND;TZID=America/Los_Angeles:20251124T235959
DTSTAMP:20260419T044435
CREATED:20250703T180355Z
LAST-MODIFIED:20250703T180355Z
UID:9178-1763942400-1764028799@lv.sdccs.org
SUMMARY:Thanksgiving Break
DESCRIPTION:
URL:https://lv.sdccs.org/event/thanksgiving-break-13/
CATEGORIES:School
END:VEVENT
BEGIN:VEVENT
DTSTART;TZID=America/Los_Angeles:20251125T000000
DTEND;TZID=America/Los_Angeles:20251125T235959
DTSTAMP:20260419T044435
CREATED:20250703T180355Z
LAST-MODIFIED:20250703T180355Z
UID:9179-1764028800-1764115199@lv.sdccs.org
SUMMARY:Thanksgiving Break
DESCRIPTION:
URL:https://lv.sdccs.org/event/thanksgiving-break-14/
CATEGORIES:School
END:VEVENT
BEGIN:VEVENT
DTSTART;TZID=America/Los_Angeles:20251126T000000
DTEND;TZID=America/Los_Angeles:20251126T235959
DTSTAMP:20260419T044435
CREATED:20250703T180356Z
LAST-MODIFIED:20250703T180356Z
UID:9180-1764115200-1764201599@lv.sdccs.org
SUMMARY:Thanksgiving Break
DESCRIPTION:
URL:https://lv.sdccs.org/event/thanksgiving-break-15/
CATEGORIES:School
END:VEVENT
BEGIN:VEVENT
DTSTART;TZID=America/Los_Angeles:20251127T000000
DTEND;TZID=America/Los_Angeles:20251127T235959
DTSTAMP:20260419T044435
CREATED:20250703T180424Z
LAST-MODIFIED:20250703T180424Z
UID:9181-1764201600-1764287999@lv.sdccs.org
SUMMARY:Thanksgiving Break
DESCRIPTION:
URL:https://lv.sdccs.org/event/thanksgiving-break-16/
CATEGORIES:School
END:VEVENT
END:VCALENDAR