BEGIN:VCALENDAR
VERSION:2.0
PRODID:-//San Diego Cooperative Charter School - ECPv6.15.20//NONSGML v1.0//EN
CALSCALE:GREGORIAN
METHOD:PUBLISH
X-WR-CALNAME:San Diego Cooperative Charter School
X-ORIGINAL-URL:https://lv.sdccs.org
X-WR-CALDESC:Events for San Diego Cooperative Charter School
REFRESH-INTERVAL;VALUE=DURATION:PT1H
X-Robots-Tag:noindex
X-PUBLISHED-TTL:PT1H
BEGIN:VTIMEZONE
TZID:America/Los_Angeles
BEGIN:DAYLIGHT
TZOFFSETFROM:-0800
TZOFFSETTO:-0700
TZNAME:PDT
DTSTART:20240310T100000
END:DAYLIGHT
BEGIN:STANDARD
TZOFFSETFROM:-0700
TZOFFSETTO:-0800
TZNAME:PST
DTSTART:20241103T090000
END:STANDARD
BEGIN:DAYLIGHT
TZOFFSETFROM:-0800
TZOFFSETTO:-0700
TZNAME:PDT
DTSTART:20250309T100000
END:DAYLIGHT
BEGIN:STANDARD
TZOFFSETFROM:-0700
TZOFFSETTO:-0800
TZNAME:PST
DTSTART:20251102T090000
END:STANDARD
BEGIN:DAYLIGHT
TZOFFSETFROM:-0800
TZOFFSETTO:-0700
TZNAME:PDT
DTSTART:20260308T100000
END:DAYLIGHT
BEGIN:STANDARD
TZOFFSETFROM:-0700
TZOFFSETTO:-0800
TZNAME:PST
DTSTART:20261101T090000
END:STANDARD
BEGIN:DAYLIGHT
TZOFFSETFROM:-0800
TZOFFSETTO:-0700
TZNAME:PDT
DTSTART:20270314T100000
END:DAYLIGHT
BEGIN:STANDARD
TZOFFSETFROM:-0700
TZOFFSETTO:-0800
TZNAME:PST
DTSTART:20271107T090000
END:STANDARD
END:VTIMEZONE
BEGIN:VEVENT
DTSTART;TZID=America/Los_Angeles:20260417T180000
DTEND;TZID=America/Los_Angeles:20260417T220000
DTSTAMP:20260421T112457
CREATED:20260319T192503Z
LAST-MODIFIED:20260319T192503Z
UID:9639-1776448800-1776463200@lv.sdccs.org
SUMMARY:Party With A Purpose
DESCRIPTION:Mark your calendars! You’re invited to The Magic of Us: Party With A Purpose\, our school’s annual fundraising celebration. This special evening brings our community together to support the students\, teachers\, and programs that make our school so incredible. \nTicket sales are officially open!\nSecure your spot today by purchasing your tickets online through our event website. \nDon’t miss out on early bird pricing—it’s available for a limited time and we’d love to see as many of our amazing community members there as possible. \nJoin us for a fun and meaningful night as we celebrate the magic of our community and make a difference together. \nGet your tickets here!
URL:https://lv.sdccs.org/event/party-with-a-purpose/
END:VEVENT
BEGIN:VEVENT
DTSTART;TZID=America/Los_Angeles:20260414T173000
DTEND;TZID=America/Los_Angeles:20260414T193000
DTSTAMP:20260421T112457
CREATED:20250703T182951Z
LAST-MODIFIED:20250703T182951Z
UID:9257-1776187800-1776195000@lv.sdccs.org
SUMMARY:Board Meeting
DESCRIPTION:
URL:https://lv.sdccs.org/event/board-meeting-31/
CATEGORIES:Board Meeting
END:VEVENT
BEGIN:VEVENT
DTSTART;TZID=America/Los_Angeles:20260403T000000
DTEND;TZID=America/Los_Angeles:20260403T235959
DTSTAMP:20260421T112457
CREATED:20250703T181729Z
LAST-MODIFIED:20250703T181729Z
UID:9208-1775174400-1775260799@lv.sdccs.org
SUMMARY:Spring Break
DESCRIPTION:
URL:https://lv.sdccs.org/event/spring-break-12/
CATEGORIES:School
END:VEVENT
BEGIN:VEVENT
DTSTART;TZID=America/Los_Angeles:20260402T000000
DTEND;TZID=America/Los_Angeles:20260402T235959
DTSTAMP:20260421T112457
CREATED:20250703T181728Z
LAST-MODIFIED:20250703T181728Z
UID:9207-1775088000-1775174399@lv.sdccs.org
SUMMARY:Spring Break
DESCRIPTION:
URL:https://lv.sdccs.org/event/spring-break-11/
CATEGORIES:School
END:VEVENT
BEGIN:VEVENT
DTSTART;TZID=America/Los_Angeles:20260401T000000
DTEND;TZID=America/Los_Angeles:20260401T235959
DTSTAMP:20260421T112457
CREATED:20250703T181727Z
LAST-MODIFIED:20250703T181727Z
UID:9206-1775001600-1775087999@lv.sdccs.org
SUMMARY:Spring Break
DESCRIPTION:
URL:https://lv.sdccs.org/event/spring-break-10/
CATEGORIES:School
END:VEVENT
BEGIN:VEVENT
DTSTART;TZID=America/Los_Angeles:20260331T000000
DTEND;TZID=America/Los_Angeles:20260331T235959
DTSTAMP:20260421T112457
CREATED:20250703T181226Z
LAST-MODIFIED:20250703T181226Z
UID:9205-1774915200-1775001599@lv.sdccs.org
SUMMARY:Spring Break
DESCRIPTION:
URL:https://lv.sdccs.org/event/spring-break-9/
CATEGORIES:School
END:VEVENT
BEGIN:VEVENT
DTSTART;TZID=America/Los_Angeles:20260330T000000
DTEND;TZID=America/Los_Angeles:20260330T235959
DTSTAMP:20260421T112457
CREATED:20250703T181226Z
LAST-MODIFIED:20250703T181226Z
UID:9204-1774828800-1774915199@lv.sdccs.org
SUMMARY:Spring Break
DESCRIPTION:
URL:https://lv.sdccs.org/event/spring-break-8/
CATEGORIES:School
END:VEVENT
BEGIN:VEVENT
DTSTART;TZID=America/Los_Angeles:20260310T173000
DTEND;TZID=America/Los_Angeles:20260310T193000
DTSTAMP:20260421T112457
CREATED:20250703T182950Z
LAST-MODIFIED:20260225T190905Z
UID:9256-1773163800-1773171000@lv.sdccs.org
SUMMARY:Board Meeting
DESCRIPTION:
URL:https://lv.sdccs.org/event/board-meeting-30/
CATEGORIES:Board Meeting
END:VEVENT
BEGIN:VEVENT
DTSTART;TZID=America/Los_Angeles:20260306T000000
DTEND;TZID=America/Los_Angeles:20260306T235959
DTSTAMP:20260421T112457
CREATED:20250703T181225Z
LAST-MODIFIED:20250703T181225Z
UID:9203-1772755200-1772841599@lv.sdccs.org
SUMMARY:Teacher Work Day
DESCRIPTION:
URL:https://lv.sdccs.org/event/teacher-work-day-4/
CATEGORIES:School
END:VEVENT
BEGIN:VEVENT
DTSTART;TZID=America/Los_Angeles:20260305T000000
DTEND;TZID=America/Los_Angeles:20260305T235959
DTSTAMP:20260421T112457
CREATED:20250703T181224Z
LAST-MODIFIED:20250703T181224Z
UID:9202-1772668800-1772755199@lv.sdccs.org
SUMMARY:Project Night
DESCRIPTION:
URL:https://lv.sdccs.org/event/project-night-11/
CATEGORIES:School
END:VEVENT
BEGIN:VEVENT
DTSTART;TZID=America/Los_Angeles:20260216T000000
DTEND;TZID=America/Los_Angeles:20260216T235959
DTSTAMP:20260421T112457
CREATED:20250703T181224Z
LAST-MODIFIED:20250703T181224Z
UID:9201-1771200000-1771286399@lv.sdccs.org
SUMMARY:President's Day
DESCRIPTION:
URL:https://lv.sdccs.org/event/presidents-day-3/
CATEGORIES:School
END:VEVENT
BEGIN:VEVENT
DTSTART;TZID=America/Los_Angeles:20260213T000000
DTEND;TZID=America/Los_Angeles:20260213T235959
DTSTAMP:20260421T112457
CREATED:20250703T181026Z
LAST-MODIFIED:20250703T181026Z
UID:9200-1770940800-1771027199@lv.sdccs.org
SUMMARY:No School
DESCRIPTION:
URL:https://lv.sdccs.org/event/no-school-10/
CATEGORIES:School
END:VEVENT
BEGIN:VEVENT
DTSTART;TZID=America/Los_Angeles:20260210T173000
DTEND;TZID=America/Los_Angeles:20260210T193000
DTSTAMP:20260421T112457
CREATED:20250703T182801Z
LAST-MODIFIED:20250703T182801Z
UID:9255-1770744600-1770751800@lv.sdccs.org
SUMMARY:Board Meeting
DESCRIPTION:
URL:https://lv.sdccs.org/event/board-meeting-29/
CATEGORIES:Board Meeting
END:VEVENT
BEGIN:VEVENT
DTSTART;TZID=America/Los_Angeles:20260130T000000
DTEND;TZID=America/Los_Angeles:20260130T235959
DTSTAMP:20260421T112457
CREATED:20250703T181026Z
LAST-MODIFIED:20250703T181026Z
UID:9199-1769731200-1769817599@lv.sdccs.org
SUMMARY:Parent/Teacher Conferences
DESCRIPTION:
URL:https://lv.sdccs.org/event/parent-teacher-conferences-10/
CATEGORIES:School
END:VEVENT
BEGIN:VEVENT
DTSTART;TZID=America/Los_Angeles:20260129T130000
DTEND;TZID=America/Los_Angeles:20260129T140000
DTSTAMP:20260421T112457
CREATED:20260110T190220Z
LAST-MODIFIED:20260116T174601Z
UID:9496-1769691600-1769695200@lv.sdccs.org
SUMMARY:DELAC Meeting
DESCRIPTION:DELAC Meeting\nMeeting location – Media Center\nMeeting Agenda\nZoom Link
URL:https://lv.sdccs.org/event/delac-meeting/
END:VEVENT
BEGIN:VEVENT
DTSTART;TZID=America/Los_Angeles:20260129T000000
DTEND;TZID=America/Los_Angeles:20260129T235959
DTSTAMP:20260421T112457
CREATED:20250703T181025Z
LAST-MODIFIED:20250703T181025Z
UID:9198-1769644800-1769731199@lv.sdccs.org
SUMMARY:Parent/Teacher Conferences
DESCRIPTION:
URL:https://lv.sdccs.org/event/parent-teacher-conferences-9/
CATEGORIES:School
END:VEVENT
BEGIN:VEVENT
DTSTART;TZID=America/Los_Angeles:20260128T000000
DTEND;TZID=America/Los_Angeles:20260128T235959
DTSTAMP:20260421T112457
CREATED:20250703T181024Z
LAST-MODIFIED:20250703T181024Z
UID:9197-1769558400-1769644799@lv.sdccs.org
SUMMARY:Parent/Teacher Conferences
DESCRIPTION:
URL:https://lv.sdccs.org/event/parent-teacher-conferences-8/
CATEGORIES:School
END:VEVENT
BEGIN:VEVENT
DTSTART;TZID=America/Los_Angeles:20260119T000000
DTEND;TZID=America/Los_Angeles:20260119T235959
DTSTAMP:20260421T112457
CREATED:20250703T181024Z
LAST-MODIFIED:20250703T181024Z
UID:9196-1768780800-1768867199@lv.sdccs.org
SUMMARY:Martin Luther King Day
DESCRIPTION:
URL:https://lv.sdccs.org/event/martin-luther-king-day-2/
CATEGORIES:School
END:VEVENT
BEGIN:VEVENT
DTSTART;TZID=America/Los_Angeles:20260113T173000
DTEND;TZID=America/Los_Angeles:20260113T193000
DTSTAMP:20260421T112457
CREATED:20250703T182800Z
LAST-MODIFIED:20250703T182800Z
UID:9254-1768325400-1768332600@lv.sdccs.org
SUMMARY:Board Meeting
DESCRIPTION:
URL:https://lv.sdccs.org/event/board-meeting-28/
CATEGORIES:Board Meeting
END:VEVENT
BEGIN:VEVENT
DTSTART;TZID=America/Los_Angeles:20260112T000000
DTEND;TZID=America/Los_Angeles:20260112T235959
DTSTAMP:20260421T112457
CREATED:20250703T180826Z
LAST-MODIFIED:20250703T180826Z
UID:9195-1768176000-1768262399@lv.sdccs.org
SUMMARY:Start of Semester 2
DESCRIPTION:
URL:https://lv.sdccs.org/event/start-of-semester-2-2/
CATEGORIES:School
END:VEVENT
BEGIN:VEVENT
DTSTART;TZID=America/Los_Angeles:20260109T000000
DTEND;TZID=America/Los_Angeles:20260109T235959
DTSTAMP:20260421T112457
CREATED:20250703T180826Z
LAST-MODIFIED:20250703T180826Z
UID:9194-1767916800-1768003199@lv.sdccs.org
SUMMARY:End of Semester 1
DESCRIPTION:
URL:https://lv.sdccs.org/event/end-of-semester-1-2/
CATEGORIES:School
END:VEVENT
BEGIN:VEVENT
DTSTART;TZID=America/Los_Angeles:20260106T000000
DTEND;TZID=America/Los_Angeles:20260106T235959
DTSTAMP:20260421T112457
CREATED:20250816T053306Z
LAST-MODIFIED:20250816T053319Z
UID:9375-1767657600-1767743999@lv.sdccs.org
SUMMARY:First Day Back From Winter Break
DESCRIPTION:
URL:https://lv.sdccs.org/event/first-day-back-from-winter-break/
END:VEVENT
BEGIN:VEVENT
DTSTART;TZID=America/Los_Angeles:20260105T000000
DTEND;TZID=America/Los_Angeles:20260105T235959
DTSTAMP:20260421T112457
CREATED:20250703T180825Z
LAST-MODIFIED:20250703T180825Z
UID:9193-1767571200-1767657599@lv.sdccs.org
SUMMARY:Teacher Work Day
DESCRIPTION:
URL:https://lv.sdccs.org/event/teacher-work-day-3/
CATEGORIES:School
END:VEVENT
BEGIN:VEVENT
DTSTART;TZID=America/Los_Angeles:20260102T000000
DTEND;TZID=America/Los_Angeles:20260102T235959
DTSTAMP:20260421T112457
CREATED:20250703T180824Z
LAST-MODIFIED:20250816T045214Z
UID:9192-1767312000-1767398399@lv.sdccs.org
SUMMARY:Winter Break
DESCRIPTION:
URL:https://lv.sdccs.org/event/winter-break-25/
CATEGORIES:School
END:VEVENT
BEGIN:VEVENT
DTSTART;TZID=America/Los_Angeles:20260101T000000
DTEND;TZID=America/Los_Angeles:20260101T235959
DTSTAMP:20260421T112457
CREATED:20250703T180824Z
LAST-MODIFIED:20250703T180824Z
UID:9191-1767225600-1767311999@lv.sdccs.org
SUMMARY:Winter Break
DESCRIPTION:
URL:https://lv.sdccs.org/event/winter-break-24/
CATEGORIES:School
END:VEVENT
BEGIN:VEVENT
DTSTART;TZID=America/Los_Angeles:20251231T000000
DTEND;TZID=America/Los_Angeles:20251231T235959
DTSTAMP:20260421T112457
CREATED:20250816T053012Z
LAST-MODIFIED:20250816T053012Z
UID:9374-1767139200-1767225599@lv.sdccs.org
SUMMARY:Winter Break
DESCRIPTION:
URL:https://lv.sdccs.org/event/winter-break-27/
END:VEVENT
BEGIN:VEVENT
DTSTART;TZID=America/Los_Angeles:20251230T000000
DTEND;TZID=America/Los_Angeles:20251230T235959
DTSTAMP:20260421T112457
CREATED:20250816T052952Z
LAST-MODIFIED:20250816T052952Z
UID:9373-1767052800-1767139199@lv.sdccs.org
SUMMARY:Winter Break
DESCRIPTION:
URL:https://lv.sdccs.org/event/winter-break-26/
END:VEVENT
BEGIN:VEVENT
DTSTART;TZID=America/Los_Angeles:20251229T000000
DTEND;TZID=America/Los_Angeles:20251229T235959
DTSTAMP:20260421T112457
CREATED:20250703T180626Z
LAST-MODIFIED:20250816T045313Z
UID:9190-1766966400-1767052799@lv.sdccs.org
SUMMARY:Winter Break
DESCRIPTION:
URL:https://lv.sdccs.org/event/winter-break-23/
CATEGORIES:School
END:VEVENT
BEGIN:VEVENT
DTSTART;TZID=America/Los_Angeles:20251228T000000
DTEND;TZID=America/Los_Angeles:20251228T235959
DTSTAMP:20260421T112457
CREATED:20250703T180626Z
LAST-MODIFIED:20250816T045338Z
UID:9189-1766880000-1766966399@lv.sdccs.org
SUMMARY:Winter Break
DESCRIPTION:
URL:https://lv.sdccs.org/event/winter-break-22/
CATEGORIES:School
END:VEVENT
BEGIN:VEVENT
DTSTART;TZID=America/Los_Angeles:20251227T000000
DTEND;TZID=America/Los_Angeles:20251227T235959
DTSTAMP:20260421T112457
CREATED:20250703T180625Z
LAST-MODIFIED:20250816T045425Z
UID:9188-1766793600-1766879999@lv.sdccs.org
SUMMARY:Winter Break
DESCRIPTION:
URL:https://lv.sdccs.org/event/winter-break-21/
CATEGORIES:School
END:VEVENT
END:VCALENDAR